BEGIN:VCALENDAR
VERSION:2.0
PRODID:Events Booking
BEGIN:VEVENT
UID:69ea5ae53e4ff
SUMMARY:Group Career Coaching Overview
DESCRIPTION:Abstract:  Often Project Managers struggle with their career pl
 anning and achieving those career goals. This is true with both novice pro
 ject managers as well as highly experienced project managers. In this coac
 hing overview\, NK will provide the details of the group coaching sessions
  that he is going to facilitate regularly to help project managers decide 
 what they want to achieve as their near and long term career goals and als
 o help them achieve those goals.
DTSTART:20210311T230000Z
DTEND:20210312T000000Z
DTSTAMP:20260423T174613Z
ORGANIZER;CN=PMI North Carolina Chapter:MAILTO:bounce@ncpmi.org
END:VEVENT
END:VCALENDAR