BEGIN:VCALENDAR
VERSION:2.0
PRODID:Events Booking
BEGIN:VEVENT
UID:69ea146e0b2d5
SUMMARY:Career Workshop – Resume Writing
DESCRIPTION:Abstract:   RESUME 101
 Purpose of the initial statement
 
 
 Clear\, concise and to the point
 First introduction to your communicatio
 n style
 Highlight Experience including industries and projects
 
LOCATION:7025 Kit Creek Rd\, Morrisville\, NC 27560\, USA
DTSTART:20200312T213000Z
DTEND:20200313T000000Z
DTSTAMP:20260423T124534Z
ORGANIZER;CN=PMI North Carolina Chapter:MAILTO:bounce@ncpmi.org
GEO:35.854621;-78.872049
X-APPLE-STRUCTURED-LOCATION;VALUE=URI;X-ADDRESS=7025 Kit Creek Rd\, Morrisv
 ille\, NC 27560\, USA;X-APPLE-RADIUS=72;X-TITLE=Cisco Campus | Building 3\
 , First Floor\, The Vault Conference Room:35.854621;-78.872049
END:VEVENT
END:VCALENDAR