BEGIN:VCALENDAR
VERSION:2.0
PRODID:Events Booking
BEGIN:VEVENT
UID:69e79f818ce08
SUMMARY:Career Workshop – Resume and Interview Tips
DESCRIPTION:Abstract:
 - What really needs to go into a resume?
 - What c
 an be left out of a resume?
 - What should you expect to be covered in a 
 short interview? A long interview?
 - What are some tips for the intervie
 w?
 This is a session given by Apex Systems to candidates seeking a job. 
 Apex Systems is one of the largest recruiting companies in the country. Ap
 ex Systems in Raleigh will cover interview tips and ways to improve your r
 esume.
LOCATION:201 Metlife Way Building 1\, Cary\, NC 27513\, USA   Lovelace Room
DTSTART:20190611T213000Z
DTEND:20190612T000000Z
DTSTAMP:20260421T160209Z
ORGANIZER;CN=PMI North Carolina Chapter:MAILTO:bounce@ncpmi.org
GEO:35.829936;-78.799021
X-APPLE-STRUCTURED-LOCATION;VALUE=URI;X-ADDRESS=201 Metlife Way Building 1\
 , Cary\, NC 27513\, USA   Lovelace Room;X-APPLE-RADIUS=72;X-TITLE=MetLife:
 35.829936;-78.799021
END:VEVENT
END:VCALENDAR