BEGIN:VCALENDAR
VERSION:2.0
PRODID:Events Booking
BEGIN:VEVENT
UID:69ea6eded347a
SUMMARY:Career Workshop – Establishing Your Career Goals
DESCRIPTION:Abstract:   When asked what their career goal is most people th
 ink about the next step in their career not the ultimate step in their car
 eer or what is known as their endgame. Not having a career goal is like go
 ing on vacation without a plan\; none of us would venture out on a vacatio
 n without any plans\, yet many people search for a new career opportunity 
 without considering their career goal.
 This presentation will give you a
  clear understanding of how to develop your own career goal and how you sh
 ould consider every new job opportunity as a next step leading you to your
  career goal.
DTSTART:20210204T230000Z
DTEND:20210205T000000Z
DTSTAMP:20260423T191126Z
ORGANIZER;CN=PMI North Carolina Chapter:MAILTO:bounce@ncpmi.org
END:VEVENT
END:VCALENDAR