BEGIN:VCALENDAR
VERSION:2.0
PRODID:Events Booking
BEGIN:VEVENT
UID:69ea0055c0ebc
SUMMARY:Career Connections / Job Fair – Feb 04\, 2020
DESCRIPTION:Abstract:   Job Fair Objectives:
 - Each of several HR Recruit
 ers will interview up to 40 Job Seekers.
 - Each interview will last appr
 oximately 10 minutes.
 - HR Recruiters will schedule time in the future i
 f additional time is required.
 Job Fair Description:
 This workshop foc
 uses on giving the Job Seekers a chance to meet with several HR Recruiters
  in one evening. It is an excellent time for people living in the area or 
 people coming to RTP from other areas. &nbsp\;There should be enough time 
 and space for Job Seekers to engage in private conversations\, if they wis
 h.
LOCATION:7025 Kit Creek Rd\, Morrisville\, NC 27560\, USA
DTSTART:20200204T223000Z
DTEND:20200205T010000Z
DTSTAMP:20260423T111949Z
ORGANIZER;CN=PMI North Carolina Chapter:MAILTO:bounce@ncpmi.org
GEO:35.854621;-78.872049
X-APPLE-STRUCTURED-LOCATION;VALUE=URI;X-ADDRESS=7025 Kit Creek Rd\, Morrisv
 ille\, NC 27560\, USA;X-APPLE-RADIUS=72;X-TITLE=Cisco Campus | Building 3\
 , First Floor\, The Vault Conference Room:35.854621;-78.872049
END:VEVENT
END:VCALENDAR