BEGIN:VCALENDAR
VERSION:2.0
PRODID:Events Booking
BEGIN:VEVENT
UID:69ea56b264fe9
SUMMARY:Susan G. Komen Triangle Race for the Cure
DESCRIPTION:Hello NCPMI!&nbsp\;&nbsp\;We have exciting news! NCPMI has&nbsp
 \;joined again the fight against breast cancer to help Komen fund breakthr
 ough discoveries\, and to ensure people facing breast cancer today receive
  the care they need to live longer\, better lives. We have&nbsp\;started a
  team for this year’s Susan G. Komen Race for the Cure and we are lookin
 g for&nbsp\;8-10 volunteers&nbsp\;to join us&nbsp\;on&nbsp\;September 12.&
 nbsp\;
 Due to the ongoing pandemic and concerns with being able to gathe
 r safely\, this year’s race will be virtual\,&nbsp\;you can&nbsp\;#RaceW
 hereYouAre. Whether you walk or race for a friend who is newly-diagnosed\,
  a co-worker living with this disease\, in memory of a loved one\, or for 
 yourself\, we’re stronger when we walk together – even when we’re ap
 art. No one should face breast cancer alone.
DTSTART:20200912T110000Z
DTEND:20200912T160000Z
DTSTAMP:20260423T172818Z
ORGANIZER;CN=PMI North Carolina Chapter:MAILTO:bounce@ncpmi.org
END:VEVENT
END:VCALENDAR