BEGIN:VCALENDAR
VERSION:2.0
PRODID:Events Booking
BEGIN:VEVENT
UID:69ea6fc3313fa
SUMMARY:Chapter Meeting – Nov 2020: Project Everest: Hybrid Agile Strateg
 ies for Reaching New Heights in Project Management
DESCRIPTION:Non-Members $0\, Members $0\, Volunteers $0.  &nbsp\;
 Abstr
 act:
 Alan’s dynamic keynote is built around the two years of planning 
 and two months of climbing that went into making the project of reaching t
 he summit of Mount Everest a reality for Alan and three members of his imm
 ediate family. Alan puts specific emphasis on adopting an agile mentality 
 so that we are not too rigid in our thinking\, reframing activities to foc
 us on results rather than tasks\, developing a level of trust in professio
 nal relationships\, gaining alignment and commitment\, working through cha
 nge\, recognizing strengths\, managing schedule and risks\, adopting an it
 erative approach which incorporates immediate feedback\, and effectively w
 orking together to achieve strategic goals. Alan’s message is about the 
 passion\, commitment and resilience that are needed to reach new heights i
 n all that we do as well as the strategies and tools that allow great lead
 ers and committed teams to achieve breakthrough performance.
 http://www.
 alanmallory.com/video
 
DTSTART:20201119T224500Z
DTEND:20201120T004500Z
DTSTAMP:20260423T191515Z
ORGANIZER;CN=PMI North Carolina Chapter:MAILTO:bounce@ncpmi.org
END:VEVENT
END:VCALENDAR