BEGIN:VCALENDAR
VERSION:2.0
PRODID:Events Booking
BEGIN:VEVENT
UID:69ea71ff4d251
SUMMARY:Chapter Meeting – March 2021: “Everyone Communicates Few Connec
 t Effectively”
DESCRIPTION:Abstract:
 We are all different\, but predictably different an
 d understanding the patterns of people provides a very valuable key to get
 ting along with each other. This session is to answer the question \"Why d
 o they act that way?\" and provide an insight into the four different comm
 unication styles.
 Learn specific strategies and tools that can help you 
 put others first\, to listen well\, and to find common ground. Whether you
  are a leader trying to get people to follow you or you are desiring to bu
 ild a stronger bond with your co- workers\, connecting with others will he
 lp you identify with and relate to those around you in a way that dramatic
 ally increases your influence.
 Did you know that productivity increases 
 by 25% when employees feel engaged with their work and connected with thei
 r co-workers? Does it seem as if nobody is listening to what you say? Mayb
 e they’re not listening – because you are not really connecting\, even
  though you are communicating.
 Learn how to recognize each style and how
  adapting our style to that of others will increase your influence with th
 em.
 
DTSTART:20210318T214500Z
DTEND:20210318T234500Z
DTSTAMP:20260423T192447Z
ORGANIZER;CN=PMI North Carolina Chapter:MAILTO:bounce@ncpmi.org
END:VEVENT
END:VCALENDAR