BEGIN:VCALENDAR
VERSION:2.0
PRODID:Events Booking
BEGIN:VEVENT
UID:69eca3ff7e64a
SUMMARY:CANCELLED: Chapter Meeting – Mar 2020: Diversity and Inclusion: A
 gesim – The Big Play
DESCRIPTION:Topic:&nbsp\;Diversity and Inclusion: Agesim – The Big Play

  Speakers:&nbsp\;Michelle Weathersby\, Denise Wiggins\, Dionne McGee
 Loc
 ation: Sheraton Imperial RTP
 PDUs: Leadership 1.5
 Price: Non-Members $
 25\, Members $10\, Volunteers $0. No refunds will be provided for cancella
 tions.
 Abstract
 Diversity and Inclusion is a topic that affects ALL OF
  US as leaders\, project managers and citizens. Research supports the posi
 tion that organizations that support D&amp\;I effectively are more profita
 ble\, have more satisfied customers and highly effective employees. Why do
  so many still struggle with providing what has clearly proven to be a str
 ategic enabler?
 This session will address D&amp\;I with a strong focus o
 n Agesim. What is Agesim and how do to spot it’s presence in the workpla
 ce\, among your project teams and in you communities. Diversity and Inclus
 ion is important to Project teams as they mirror the organization and effe
 ctive recognition of D&amp\;I concepts can improve performance.
LOCATION:4700 Emperor Blvd\, Research Triangle Park
DTSTART:20200319T213000Z
DTEND:20200320T000000Z
DTSTAMP:20260425T112239Z
ORGANIZER;CN=PMI North Carolina Chapter:MAILTO:bounce@ncpmi.org
GEO:35.877952;-78.84081
X-APPLE-STRUCTURED-LOCATION;VALUE=URI;X-ADDRESS=4700 Emperor Blvd\, Researc
 h Triangle Park;X-APPLE-RADIUS=72;X-TITLE=Sheraton Imperial RTP:35.877952;
 -78.84081
END:VEVENT
END:VCALENDAR