BEGIN:VCALENDAR
VERSION:2.0
PRODID:Events Booking
BEGIN:VEVENT
UID:69ea2e6c5626c
SUMMARY:Chapter Meeting – June 2020:” Excel Data Analytics with Excel P
 ower BI for Project Managers” 
DESCRIPTION:Non-Members $25\, Members $10\, Volunteers $0. No refunds will 
 be provided for cancellations. &nbsp\;
 Abstract:
 This seminar is des
 igned to showcase the new Microsoft Excel Power BI tools\, with the goal o
 fshowing attendees the possibilities of performing project data analytic a
 ctivities more quickly and accurately in Microsoft Excel®. Excel’s new 
 Power BI tools are a great tool for working with project data analytics sm
 artly and efficiently. Participants will be introduced to Microsoft Excel
 ’s Power Query\, Power Pivot\, and Power Map tools in this cutting-edge 
 seminar.
 Please feel free to bring your computer if you would like to fo
 llow along in real-time!
 Learning Objectives:
 - Overview of the Power 
 BI Tools
 - Power Query Demonstration
 - Power Pivot Demonstration
 - P
 ower Map Demonstration
 
DTSTART:20200618T213000Z
DTEND:20200619T000000Z
DTSTAMP:20260423T143628Z
ORGANIZER;CN=PMI North Carolina Chapter:MAILTO:bounce@ncpmi.org
END:VEVENT
END:VCALENDAR