BEGIN:VCALENDAR
VERSION:2.0
PRODID:Events Booking
BEGIN:VEVENT
UID:69ea42a6a37ed
SUMMARY:Chapter Meeting – July 2020:” I am a PMP\, Now What? - Career S
 trategies for Project Managers”
DESCRIPTION:Non-Members $25\, Members $10\, Volunteers $0. No refunds will 
 be provided for cancellations. &nbsp\;
 Abstract:
 Many times\, projec
 t managers are not sure what that next step should be after they earn thei
 r Project Management Professional (PMP)® certification. In this webinar\,
  we will describe several possible career paths based on our experience an
 d share tips on how to get started.
 Earning the Project Management Profe
 ssional (PMP)® is a monumental achievement for project managers and signa
 ls they are ready to take the next steps in their careers. Many times\, pr
 oject managers are not sure what that next step should be. Should they go 
 for certifications in program management? What about an Agile certificatio
 n such as CSM?
 Attendees will learn about several possible career paths 
 and what steps they need to take to get started. They will leave ready to 
 get started on following up on their PMP certification.
 
DTSTART:20200716T213000Z
DTEND:20200717T000000Z
DTSTAMP:20260423T160246Z
ORGANIZER;CN=PMI North Carolina Chapter:MAILTO:bounce@ncpmi.org
END:VEVENT
END:VCALENDAR