BEGIN:VCALENDAR
VERSION:2.0
PRODID:Events Booking
BEGIN:VEVENT
UID:69ea88dcb2751
SUMMARY:Chapter Meeting – January 2021: Evolution of the Pre-Historic Sti
 cky Note
DESCRIPTION:Non-Members $0\, Members $0\, Volunteers $0.  &nbsp\;
 Abstr
 act:
 Tired of sticky notes and whiteboard sessions? Mind Mapping is used
  in requirements gathering sessions and the construction of the WBS.&nbsp\
 ; Mind mapping has traditionally been presented as a tool for planning and
  organization\, an effective way to develop\, organize\, and present multi
 ple facets of the project plan.&nbsp\; Primarily used for the construction
  of the WBS\, advanced uses of this technique also simplify the complex pr
 ocess of communicating the project plan. When Mind Mapping is coupled with
  technology it simplifies the process and enhances communication.&nbsp\; D
 uring this presentation\, I will explain the mind mapping theory and how t
 hat theory can be applied to BAs and PMs.&nbsp\; I will also demonstrate b
 est practice techniques in mind mapping and how it relates to technology. 
 Participants will learn how to simplify the project life cycle and improve
  communication of a project plan.
 
DTSTART:20210121T224500Z
DTEND:20210122T004500Z
DTSTAMP:20260423T210220Z
ORGANIZER;CN=PMI North Carolina Chapter:MAILTO:bounce@ncpmi.org
END:VEVENT
END:VCALENDAR