BEGIN:VCALENDAR
VERSION:2.0
PRODID:Events Booking
BEGIN:VEVENT
UID:69e9d5d797da6
SUMMARY:Chapter Meeting – February 2023: The Case for the Agile Project M
 anager
DESCRIPTION:Abstract:
 Change isn’t coming – it’s already here. The 
 project environment is becoming more volatile\,uncertain\, complex\, and a
 mbiguous. Project management and project managers must transform and evolv
 e in order to keep up with these changes.The Agile movement is a disruptor
  in the field of project management\, now having over 20 years of successe
 s and benefits to organizations that have adopted their practices. But whi
 le Agile has proven itself to be more adept in dealing with uncertainty\, 
 just following frameworks isn’t enough. What are some of the key compete
 ncies and ways of thinking we must have?
 After this one-hour session\, l
 earners will be able to:
 
 Describe how the project environment is incr
 easingly unstable
 Relay the need to go beyond Agile projects to the unde
 rlying principles
 Consider the overall end goal of organizational busine
 ss agility
 
DTSTART:20230216T223000Z
DTEND:20230217T010000Z
DTSTAMP:20260423T081831Z
ORGANIZER;CN=PMI North Carolina Chapter:MAILTO:bounce@ncpmi.org
END:VEVENT
END:VCALENDAR