BEGIN:VCALENDAR
VERSION:2.0
PRODID:Events Booking
BEGIN:VEVENT
UID:69ea73eed9b62
SUMMARY:Chapter Meeting – February 2021: Disciplined Agile – Agile 20 C
 elebration
DESCRIPTION:Abstract: To mark the 20th anniversary of the Agile Manifesto\,
  PMI is supporting the global Agile 20 Reflect Festival\, a series of agil
 e education events being held around the world in February 2021. &nbsp\;As
  part of our NC Chapter participation in the Agile 20 celebration\, this m
 onth’s meeting is a great opportunity for NCPMI members to dive into an 
 informative discussion about PMI Disciplined Agile! &nbsp\;
 
DTSTART:20210218T224500Z
DTEND:20210219T004500Z
DTSTAMP:20260423T193302Z
ORGANIZER;CN=PMI North Carolina Chapter:MAILTO:bounce@ncpmi.org
END:VEVENT
END:VCALENDAR