BEGIN:VCALENDAR
VERSION:2.0
PRODID:Events Booking
BEGIN:VEVENT
UID:69e9ec938a579
SUMMARY:Chapter Meeting – April 2021: “Confessions of An Impostor”
DESCRIPTION:Abstract:
 You doubt your accomplishments and have a persisten
 t\, often internalized fear of being exposed as a fraud. Can you relate to
  this? If yes\, you're not alone\; 70% of all Americans say they have suff
 ered from Impostor Syndrome at one time or another.
 In this talk\, Jes w
 ill help you identify which impostor you might be and learn how to take co
 ntrol and turn your REAL life experiences into relationship and business m
 agic!
 
DTSTART:20210415T214500Z
DTEND:20210415T234500Z
DTSTAMP:20260423T095531Z
ORGANIZER;CN=PMI North Carolina Chapter:MAILTO:bounce@ncpmi.org
END:VEVENT
END:VCALENDAR