BEGIN:VCALENDAR
VERSION:2.0
PRODID:Events Booking
BEGIN:VEVENT
UID:69e9ecd6aa869
SUMMARY:Virtual Workshop Series Part II presented by Apex Systems with Live
  Q & A:  Remote Team Management - How to Manage Multiple Teams in 4 Time Z
 ones with Kupe Kupersmith – Workshop 2
DESCRIPTION:Abstract:
 NCPMI in partnership with Apex System is offering a
  Virtual Workshop Series on Time Management and Communications for All Pra
 ctitioners. You must watch the on-demand webinar here prior to attending t
 his live question and answer event.&nbsp\;These sessions will be free&nbsp
 \;for NCPMI Members&nbsp\;and hosted online via&nbsp\;ZOOM.&nbsp\;
 Webin
 ar Overview:
 Walk away with ideas you and your team can use to improve y
 our efficiency and effectiveness.
 
 Learn how it all starts with One Te
 am
 See how you can adapt many agile principles when your team is not the
  ideal size
 Experience key take-aways to implement with your team
 
LOCATION:Virtual (URL for the session will be provided prior to each weekly
  session)
DTSTART:20210407T160000Z
DTEND:20210407T170000Z
DTSTAMP:20260423T095638Z
ORGANIZER;CN=PMI North Carolina Chapter:MAILTO:bounce@ncpmi.org
GEO:35.896166;-78.870311
X-APPLE-STRUCTURED-LOCATION;VALUE=URI;X-ADDRESS=Virtual (URL for the sessio
 n will be provided prior to each weekly session);X-APPLE-RADIUS=72;X-TITLE
 =Virtual (URL for the session will be provided prior to each weekly sessio
 n):35.896166;-78.870311
END:VEVENT
END:VCALENDAR