BEGIN:VCALENDAR
VERSION:2.0
PRODID:Events Booking
BEGIN:VEVENT
UID:69eab4533243e
SUMMARY:Virtual Meet and Greet with the In It Together coaches: Learn what 
 Coaching can do for you - Kickstart 1
DESCRIPTION:Abstract:
 This is a prelude event to the It Together Coaching
  - Navigating Challenges Through Strengths 2021 series in partnership with
  Project Motivator (ALLE LLC). This is a free event and will be hosted o
 nline via ZOOM by the In it Together Coaches &amp\; Ruth Pearce.
 &nbsp\;
 
 Overview:
 
 Learn what In It Together Coaching can do for you
 Brin
 g your questions
 Meet our facilitators
 Hear about the ROI of coaching
 
 
LOCATION:Virtual (URL for the session will be provided prior to each weekly
  session)
DTSTART:20201114T153000Z
DTEND:20201114T164500Z
DTSTAMP:20260424T000747Z
ORGANIZER;CN=PMI North Carolina Chapter:MAILTO:bounce@ncpmi.org
GEO:35.896166;-78.870311
X-APPLE-STRUCTURED-LOCATION;VALUE=URI;X-ADDRESS=Virtual (URL for the sessio
 n will be provided prior to each weekly session);X-APPLE-RADIUS=72;X-TITLE
 =Virtual (URL for the session will be provided prior to each weekly sessio
 n):35.896166;-78.870311
END:VEVENT
END:VCALENDAR