BEGIN:VCALENDAR
VERSION:2.0
PRODID:Events Booking
BEGIN:VEVENT
UID:69eb29a112ecf
SUMMARY:PMO CoP May 2020 : Implementing Resource Portfolio Management
DESCRIPTION:Abstract
 If you have ever made attempts at Enterprise Resourc
 e Management across projects and portfolios using Excel\, MS Project\, or 
 traditional PPM tools\, then you will understand the challenges and shortf
 alls.&nbsp\; &nbsp\;This session will a spotlight of a specific resource m
 anagement tool new to the industry that solves many of these challenges an
 d can adapt to your environment without a full replacement of current syst
 ems.&nbsp\; This will also combine best practices from the Resource Manage
 ment Institute. &nbsp\;
DTSTART:20200514T153000Z
DTEND:20200514T170000Z
DTSTAMP:20260424T082817Z
ORGANIZER;CN=PMI North Carolina Chapter:MAILTO:bounce@ncpmi.org
END:VEVENT
END:VCALENDAR