BEGIN:VCALENDAR
VERSION:2.0
PRODID:Events Booking
BEGIN:VEVENT
UID:69e9eb8a6cd03
SUMMARY:Leadership CoP - Orchestrating Virtual Collaborative Leadership
DESCRIPTION:About the speaker:
 Indubala Kachhawa is a proud Toastmaster s
 ince February 2019. Currently\, she is serving at Toastmasters Internation
 al in the capacity of President (talkers@cisco) and an Area 15 Director. S
 he has a decade of experience in IT and earned a couple of esteemed certif
 ications like PMP\, Prince2\, ITIL. She is an avid reader and writer. She 
 is a writer at Medium and Vocal Media. She spoke for PMI Silicon Valley Sy
 mposium in October 2020 about working together in this virtual world. She 
 recently spoke in a Toastmaster’s Symposium about New Age Leadership. Sh
 e has conducted workshops for middle and high school children in public sp
 eaking and team building. On a personal front\, she is a mother of a beaut
 iful daughter\, a sketch artist\, and a painter.
DTSTART:20210408T220000Z
DTEND:20210408T230000Z
DTSTAMP:20260423T095106Z
ORGANIZER;CN=PMI North Carolina Chapter:MAILTO:bounce@ncpmi.org
END:VEVENT
END:VCALENDAR