BEGIN:VCALENDAR
VERSION:2.0
PRODID:Events Booking
BEGIN:VEVENT
UID:69e9eaf1d2b63
SUMMARY:In It Together Group coaching program - 10 weeks - SATURDAYS
DESCRIPTION:Please register directly with In it Together Coaching by clicki
 ng&nbsp\;here.&nbsp\;
 Our&nbsp\;In It Together Facilitators&nbsp\;are co
 mmitted to partnering with you to navigate challenges\, embrace opportunit
 ies\, encourage growth and creating a safe welcoming space for all! We cam
 e together to support the sudden transition to a COVID-19 world\, and we a
 re returning to keep the support going. In a group you benefit from the co
 aches AND from the other attendees. The rich perspectives are a great sour
 ce of new ideas\, new approaches and also the sense that we are sharing ex
 periences.&nbsp\;
DTSTART:20210417T150000Z
DTEND:20210612T163000Z
DTSTAMP:20260423T094833Z
ORGANIZER;CN=PMI North Carolina Chapter:MAILTO:bounce@ncpmi.org
END:VEVENT
END:VCALENDAR