BEGIN:VCALENDAR
VERSION:2.0
PRODID:Events Booking
BEGIN:VEVENT
UID:69eb279db5fc2
SUMMARY:Higher Education CoP May 2020: Strategies for Effective Workplace W
 riting
DESCRIPTION:Short Description:
 Strategies for Effective Workplace Writing
  by Amanda McMillan\, MPH\, MA
 WebEx Only: https://bit.ly/2yqKWGO
 Semi
 nar: 12 PM – 1 PM
DTSTART:20200514T160000Z
DTEND:20200514T170000Z
DTSTAMP:20260424T081941Z
ORGANIZER;CN=PMI North Carolina Chapter:MAILTO:bounce@ncpmi.org
END:VEVENT
END:VCALENDAR