BEGIN:VCALENDAR
VERSION:2.0
PRODID:Events Booking
BEGIN:VEVENT
UID:69ea87692cd06
SUMMARY:Higher Education CoP Jan 2021: Beyond the PMBOoK: Journey to the Se
 cret Sauce| A Discussion of ‘The Power of Habit ’ by Charles Duhigg
DESCRIPTION:Higher Education CoP Jan 2021: Beyond the PMBOoK: Journey to th
 e Secret Sauce| A Discussion of ‘The Power of Habit ’ by Charles Duhig
 g
 Jan 28\, 2021\, 12-1 PM
 Facilitated by: Janet Lockhart\, CPA\, PMP\,
  Senior Contracting Officer at RTI International
 Register at:&nbsp\;http
 s://qrgo.page.link/rKT8q&nbsp\;
DTSTART:20210128T170000Z
DTEND:20210128T180000Z
DTSTAMP:20260423T205609Z
ORGANIZER;CN=PMI North Carolina Chapter:MAILTO:bounce@ncpmi.org
END:VEVENT
END:VCALENDAR