BEGIN:VCALENDAR
VERSION:2.0
PRODID:Events Booking
BEGIN:VEVENT
UID:69ead9aae4b7e
SUMMARY:Hello
DESCRIPTION:
DTSTART:20200930T040500Z
DTEND:20200930T060500Z
DTSTAMP:20260424T024706Z
ORGANIZER;CN=PMI North Carolina Chapter:MAILTO:bounce@ncpmi.org
END:VEVENT
END:VCALENDAR