BEGIN:VCALENDAR
VERSION:2.0
PRODID:Events Booking
BEGIN:VEVENT
UID:69e88a59ba643
SUMMARY:Healthcare CoP: The Ramifications of Disparities in Women's Health 
 Research
DESCRIPTION:
 Abstract:&nbsp\;There are huge disparities in women's health
 care\, research and treatment. This leads to solutions that are often misg
 uided\, ineffective and even dangerous. The problem is with both physical 
 and digital&nbsp\;interventions.&nbsp\;There are very real harmful ramific
 ations for women's health when these problems&nbsp\;go unaddressed. As org
 anizations and leaders in healthcare\, we must provide solutions with inte
 grity\, efficacy and excellence.
 
 &nbsp\;
 
 Learning Objectives:&nb
 sp\;
 
 A Brief History of Women's Health Research
 The current state a
 nd problems with our healthcare system
 Exploring the future of women's h
 ealth technology and research
 
 
 
DTSTART:20220706T220000Z
DTEND:20220706T230000Z
DTSTAMP:20220627T053027Z
ORGANIZER;CN=PMI North Carolina Chapter:MAILTO:bounce@ncpmi.org
END:VEVENT
END:VCALENDAR