BEGIN:VCALENDAR
VERSION:2.0
PRODID:Events Booking
BEGIN:VEVENT
UID:69eaf04c2194d
SUMMARY:Global CoP - How To Be A Relevant Project Manager
DESCRIPTION:Global
DTSTART:20200829T130000Z
DTEND:20200829T140000Z
DTSTAMP:20260424T042340Z
ORGANIZER;CN=PMI North Carolina Chapter:MAILTO:bounce@ncpmi.org
END:VEVENT
END:VCALENDAR