BEGIN:VCALENDAR
VERSION:2.0
PRODID:Events Booking
BEGIN:VEVENT
UID:69ea8638d4be6
SUMMARY:Global COP: Building a Better Team - Understanding Personality Type
 s 
DESCRIPTION:When building a project team personality means as much as skill
  sets and capabilities.&nbsp\; But how do you choose the personalities nee
 ded for a strong successful team?&nbsp\;&nbsp\;
 In this session you will
  understand the MBTI assessments and relationships of those results to wor
 k work for your team.&nbsp\; A personality test will be included along wit
 h a self assessment checklist.&nbsp\; This will allow you to use what you 
 have learn immediately after the session for your team's growth.&nbsp\;
 
 The benefits of understanding personalities are:
 
 Foster openness and 
 trust
 Provide neutral and affirmative language to dicsuss differences
 
 Encourage team members to value others' work&nbsp\;
 Help increase produc
 tivity by aligning MBTI to particular tasks
 Identify the team strengths 
 and areas of growth
 Supply a framework within which team members can bet
 ter understand and manager leadership\, and team culture
 
LOCATION:4900 NC-55 #160
DTSTART:20210130T140000Z
DTEND:20210130T150000Z
DTSTAMP:20260423T205104Z
ORGANIZER;CN=PMI North Carolina Chapter:MAILTO:bounce@ncpmi.org
GEO:35.899054;-78.898539
X-APPLE-STRUCTURED-LOCATION;VALUE=URI;X-ADDRESS=4900 NC-55 #160;X-APPLE-RAD
 IUS=72;X-TITLE=NCPMI:35.899054;-78.898539
END:VEVENT
END:VCALENDAR