BEGIN:VCALENDAR
VERSION:2.0
PRODID:Events Booking
BEGIN:VEVENT
UID:69ea738b6733f
SUMMARY:Global CoP: 8 Emotional Drivers for Project Excellence
DESCRIPTION:&nbsp\;
 PMICC - Feb KSS - 8 Emotional Drivers for Project Exc
 ellenceSat\, Feb 13\, 2021 7:30 PM - 8:30 PM (Indian Standard Time)
 Link
  to the webinar -&gt\;&nbsp\;https://www.google.com/url?q=https://global.g
 otomeeting.com/join/672258981&amp\;source=gmail&amp\;ust=1613261405326000&
 amp\;usg=AFQjCNEiq5esU_uo9-03470_xrUv3M5ELw\"&gt\;https://global.gotomeeti
 ng.com/join/672258981
 &nbsp\;
 &nbsp\;
 The Global Community of Practi
 ce is happy to invite you to the upcoming session on 8 Emotional Drivers f
 or Project Excellence.&nbsp\; Some of the key takeaways from the session a
 re:
 1. Motivating the team members to work with commitment - learn few t
 ools
 2. Understanding why few team members are excited only in some acti
 vities
 3. Ranking and reviewing our emotional drivers to achieve excelle
 nce
 4. Overcoming the effects of 'need-sucking'
 5. Improving the influ
 encing skills
 &nbsp\;
 &nbsp\;
 About the speaker: V Viswanathan - Tra
 iner\, Consultant and Visiting Faculty at B-Schools
 He is a DC Psycholog
 y Certified Trainer and 'Professional Member' accredited by Global Trainer
 s Federation.&nbsp\; He is also a Master Behavioral Skills Trainer certifi
 ed by Carlton Advanced Management Institute (CAMI) &amp\;Middle Earth HR

  He is a PMP and has served in senior level positions for over three decad
 es in India and Sultanate of Oman.&nbsp\; As a project manager\, he has ha
 ndled large projects in the oil and gas sector in Oman.&nbsp\;
 He has co
 nducted many training programs for corporate in government and private sec
 tor and also for educational intitutions.&nbsp\; He regularly writes artic
 les for newspapers and is the author of the book 'An Impish Grandpa' a coo
 llections of his humorous articles.&nbsp\;
 &nbsp\;
 
DTSTART:20210213T140000Z
DTEND:20210213T150000Z
DTSTAMP:20260423T193123Z
ORGANIZER;CN=PMI North Carolina Chapter:MAILTO:bounce@ncpmi.org
END:VEVENT
END:VCALENDAR