BEGIN:VCALENDAR
VERSION:2.0
PRODID:Events Booking
BEGIN:VEVENT
UID:69eab05eb1105
SUMMARY:Virtual Workshop Series presented by Apex Systems with Live Q &A: M
 aximizing Your Office Influence with Eric Bloom - Workshop 3
DESCRIPTION:Abstract:
 NCPMI in partnership with Apex System is offering a
  Web Seminar Series on Time Management and Communications for All Practiti
 oners. You must watch the on-demand webinar here prior to attending this l
 ive question and answer event.&nbsp\;These sessions will be free&nbsp\;for
  NCPMI Members&nbsp\;and hosted online via&nbsp\;ZOOM.&nbsp\;
 Overview:
 
 
 The ability to influence others is the workplace is key to the succes
 s of IT professionals from the CIO to the newest college intern. CIOs must
  work at equal footing with other C-suite executives\, Project Managers mu
 st motivate and direct their dotted line resources\, and individual contri
 butors must often influence others to get the resources and information ne
 eded to complete their tasks.
 This webinar is ideal for IT executives\, 
 Project Managers\, Business Analysts\, Software Testers\, Technical Leads 
 and all others required to give direction and/or influence others without 
 the specific organizational authority to do so.
 
LOCATION:Virtual (URL for the session will be provided prior to each weekly
  session)
DTSTART:20201111T170000Z
DTEND:20201111T180000Z
DTSTAMP:20260423T235054Z
ORGANIZER;CN=PMI North Carolina Chapter:MAILTO:bounce@ncpmi.org
GEO:35.896166;-78.870311
X-APPLE-STRUCTURED-LOCATION;VALUE=URI;X-ADDRESS=Virtual (URL for the sessio
 n will be provided prior to each weekly session);X-APPLE-RADIUS=72;X-TITLE
 =Virtual (URL for the session will be provided prior to each weekly sessio
 n):35.896166;-78.870311
END:VEVENT
END:VCALENDAR