BEGIN:VCALENDAR
VERSION:2.0
PRODID:Events Booking
BEGIN:VEVENT
UID:69eaf23a27f7d
SUMMARY:PMO CoP- Establishing and Running a PMO successfully
DESCRIPTION:Abstract
 Successful organizations depend on efficient\, scala
 ble\, repeatable and responsive processes. A Project Management Office pro
 vides the governance framework needed for establishing those processes. It
  provides the rules\, tools and schools necessary to train\, enable \, mon
 itor and align process adoption. A PMO is the fountainhead of a metrics dr
 iven and process mature organization. This presentation will provide you w
 ith critical information you can use to establish a successful PMO within 
 your organization while avoiding many common pitfalls that have been the b
 ane of many who have traversed this path.
 &nbsp\;
 An effective PMO can
  directly contribute to the bottomline.&nbsp\;We will explore&nbsp\; some 
 of the most common organizational obstacles to the establishment of an eff
 ective PMO and options to address them. We will learn how a can provide th
 e rules\, tools and schools needed for widespread adoption of PMO driven b
 usiness culture.
 Establishing and running a PMO successfully
 Learning 
 Objectives
 
 Establishing a PMO - Understand organizational challenges 
 and how to overcome them.
 Structuring PMO as center of excellence for co
 nsistent and continuous delivery of successful projects by adapting to bes
 t practices.
 Leveraging PMO to maximize business value and keep stakehol
 ders aligned.
 
 &nbsp\;
 About the Speaker
 
 Shivani Gupta has exte
 nsive experience in Project and PMO Management. She has completed multiple
  projects for&nbsp\;Fortune 500 companies as well as Government sector and
  is currently leading PMO for a healthcare company.
 
 &nbsp\;She holds 
 an MBA in Operations &amp\; Marketing\, Post Graduate Diploma in Computer 
 Applications\, Bachelor’s in Medicine (ISM) and certifications in Stakeh
 older management and Statistics. She is a Project Management Professional 
 (PMP)\, Certified Scrum Master (CSM)\, SAFe Agilest\, Lean Six Sigma Black
  Belt certified and Certified Disciplined Agilist.
 Shivani is associated
  with PMI South Florida since 2012 starting out in Education team\, served
  as VP of Technology for 3 years and currently President-Elect for the Cha
 pter
 &nbsp\;
 &nbsp\;
 &nbsp\;
 
DTSTART:20200812T150000Z
DTEND:20200812T160000Z
DTSTAMP:20260424T043154Z
ORGANIZER;CN=PMI North Carolina Chapter:MAILTO:bounce@ncpmi.org
END:VEVENT
END:VCALENDAR