BEGIN:VCALENDAR
VERSION:2.0
PRODID:Events Booking
BEGIN:VEVENT
UID:69ea5e087c1cc
SUMMARY:Leadership CoP - Create Belonging with C.L.A.I.M.
DESCRIPTION:About the speaker:
 Growing up in a small Mississippi town tau
 ght Dea Irby about belonging. She and her husband since 1974 have lived in
  15 homes in 5 Southern states\, raising 8 children. She published “A Do
 llop and a Pinch: Recipes and Stories of Baron York” after her 7 years o
 f being an owner/operator restaurateur. The one consistent thread througho
 ut all her adventures has been building real community - in the home\, in 
 business\, and in teams. Dea discovered that in all of life\, a real commu
 nity is vital. It’s not just about being connected\, it’s about being 
 claimed.
DTSTART:20210311T230000Z
DTEND:20210312T000000Z
DTSTAMP:20260423T175936Z
ORGANIZER;CN=PMI North Carolina Chapter:MAILTO:bounce@ncpmi.org
END:VEVENT
END:VCALENDAR