BEGIN:VCALENDAR
VERSION:2.0
PRODID:Events Booking
BEGIN:VEVENT
UID:69ea9bfe04939
SUMMARY:Dec 2020 Social Circle
DESCRIPTION:The NCPMI Chapter cordially invites you to attend our Social ev
 ent. This event is for our members as well as guest attendees who are cons
 idering joining a local PMI chapter.&nbsp\; So&nbsp\;join us for great con
 versation\, games\, prizes\, complimentary appetizers and a cash bar.&nbsp
 \;
DTSTART:20201210T230000Z
DTEND:20201211T010000Z
DTSTAMP:20260423T222358Z
ORGANIZER;CN=PMI North Carolina Chapter:MAILTO:bounce@ncpmi.org
END:VEVENT
END:VCALENDAR