BEGIN:VCALENDAR
VERSION:2.0
PRODID:Events Booking
BEGIN:VEVENT
UID:69ea8687a3d07
SUMMARY:Communications CoP: The Power of Networking in 2021
DESCRIPTION:This is a NCPMI Communication &amp\; Public Speaking CoP- NCPL 
 Toastmasters Club Meeting.The Meeting includes prepared speeches\, table t
 opics\, networking\, evaluations\, jokes and multiple meeting operations r
 oles.6:00 pm – 8:00 pm (5:45 pm – 6:00 pm) Pre-meeting Networking
 Me
 eting will be convened by Zoom Virtual Meeting
 
 Abstract:
 The #1 pre
 dictor of career success is your network.&nbsp\; &nbsp\;Understand the art
  and science of how to network with confidence to forge intentional and au
 thentic relationships that will propel your career.&nbsp\; Explore your br
 and awareness. Differentiate mentors from sponsors. Avoid networking traps
 . NCPMI is your core network so let's get ready to work the room!
 
DTSTART:20210112T224500Z
DTEND:20210113T010000Z
DTSTAMP:20260423T205223Z
ORGANIZER;CN=PMI North Carolina Chapter:MAILTO:bounce@ncpmi.org
END:VEVENT
END:VCALENDAR