BEGIN:VCALENDAR
VERSION:2.0
PRODID:Events Booking
BEGIN:VEVENT
UID:69eab391c69f6
SUMMARY:Communications CoP: People Management Gets the Project Done
DESCRIPTION:This is a NCPMI Communication &amp\; Public Speaking CoP- NCPL 
 Toastmasters Club Meeting.The Meeting includes prepared speeches\, table t
 opics\, networking\, evaluations\, jokes and multiple meeting operations r
 oles.6:00 pm – 8:00 pm (5:45 pm – 6:00 pm) Pre-meeting Networking
 Me
 eting will be convened by Zoom Virtual Meeting
 
 Abstract:
 During cha
 llenging and changing times\, a Project Manager should focus on managing t
 he people who are working on the project. This panel discussion will featu
 re leaders who are being successful with their job. They will share their 
 expertise in people management during changing times. The panelist will fe
 ature:
 Denise Baker
 Andrew Macintyre
 Katrina Damon
 Objectives: 
 
 
 hear how experienced project leaders are dealing with the challenges of
  today&nbsp\;
 learn practical tips to become better leaders
 be introdu
 ced to a system of \"people focused\" leadership
 
 
DTSTART:20201110T230000Z
DTEND:20201111T010000Z
DTSTAMP:20260424T000433Z
ORGANIZER;CN=PMI North Carolina Chapter:MAILTO:bounce@ncpmi.org
END:VEVENT
END:VCALENDAR