BEGIN:VCALENDAR
VERSION:2.0
PRODID:Events Booking
BEGIN:VEVENT
UID:69e8a15b04b15
SUMMARY:Communications and Public Speaking CoP: \"The ABC's of Project Mana
 gement\"
DESCRIPTION:In this presentation\, Sal will highlight the basics of Project
  and Plan Management. He will compare the similarity between the general p
 rinciples of Project Management and Toastmasters District and Club Managem
 ent.
DTSTART:20211026T214500Z
DTEND:20211027T000000Z
DTSTAMP:20260422T102219Z
ORGANIZER;CN=PMI North Carolina Chapter:MAILTO:bounce@ncpmi.org
END:VEVENT
END:VCALENDAR