BEGIN:VCALENDAR
VERSION:2.0
PRODID:Events Booking
BEGIN:VEVENT
UID:69ea5b9eb999f
SUMMARY:Communications and Public Speaking CoP: Project Managers with a Ser
 vant Leadership Mindset
DESCRIPTION:Abstract
 Participants will have the opportunity to explore th
 e meaning of Servant Leadership and the principles and characteristics of 
 the Servant Leader.&nbsp\; Likewise\, project managers&nbsp\;will explore 
 personal and professional notions of having a servant leader's mindset and
  skillsets&nbsp\;within today's work environments.
 
 Define and Underst
 and the Principle of Servant Leadership
 Awareness of a Servant Leadershi
 p Mindset
 Determine the Type of Project Manager YOU want to be
 Take th
 e Challenge to Apply Servant Leadership Skillsets as Project Manager
 
DTSTART:20210323T214500Z
DTEND:20210324T000000Z
DTSTAMP:20260423T174918Z
ORGANIZER;CN=PMI North Carolina Chapter:MAILTO:bounce@ncpmi.org
END:VEVENT
END:VCALENDAR