BEGIN:VCALENDAR
VERSION:2.0
PRODID:Events Booking
BEGIN:VEVENT
UID:69ea71fa30f1a
SUMMARY:Communications and Public Speaking CoP: How to Fail Successfully
DESCRIPTION:Abstract:
 Benjamin Franklin famously wrote “in this world n
 othing can be said to be certain\, except death and taxes”. There is a t
 hird certainty he could have included in his list: “Failure”. Just lik
 e death and taxes\, nobody enjoys talking about failure\, but it is someth
 ing we all experience repeatedly. In tonight’s speech\, Andrew Macintyre
  will discuss the benefits of failing and share tips on how to handle fail
 ure both individually and as a leader or member of a team.
DTSTART:20210209T224500Z
DTEND:20210210T010000Z
DTSTAMP:20260423T192442Z
ORGANIZER;CN=PMI North Carolina Chapter:MAILTO:bounce@ncpmi.org
END:VEVENT
END:VCALENDAR