BEGIN:VCALENDAR
VERSION:2.0
PRODID:Events Booking
BEGIN:VEVENT
UID:69e7829a3690d
SUMMARY:Communications and Public Speaking CoP: High Tech Entrepreneurship 
 - An Incredible Journey in Create Business Value
DESCRIPTION:Throughout the world people are full of ideas on how to do thin
 gs Better\, Faster\, Cheaper.&nbsp\; But when the rubber meets the road\, 
 most of them are not successful in bringing their product to market.&nbsp\
 ; The High-Tech Entrepreneurship Course at NCSU is focused on flipping thi
 s statistic by teaching students how to take a new technology\, wrap just 
 the right product around it\, and bring it to the Market that will benefit
  most.&nbsp\;
DTSTART:20210413T040000Z
DTEND:20210413T040000Z
DTSTAMP:20260421T135850Z
ORGANIZER;CN=PMI North Carolina Chapter:MAILTO:bounce@ncpmi.org
END:VEVENT
END:VCALENDAR