BEGIN:VCALENDAR
VERSION:2.0
PRODID:Events Booking
BEGIN:VEVENT
UID:69e9ec813be42
SUMMARY:Communications and Public Speaking CoP: High Tech Entrepreneurship 
 - An Incredible Journey in Create Business Value
DESCRIPTION:Abstract
 Throughout the world people are full of ideas on how
  to do things Better\, Faster\, Cheaper.&nbsp\; But when the rubber meets 
 the road\, most of them are not successful in bringing their product to ma
 rket.&nbsp\; The High-Tech Entrepreneurship Course at NCSU is focused on f
 lipping this statistic by teaching students how to take a new technology\,
  wrap just the right product around it\, and bring it to the Market that w
 ill benefit most.&nbsp\;
 This is without a doubt a Hybrid Project and th
 rough this presentation we’ll get a bird’s eye view of how it is done.
 &nbsp\; If you think that an endeavor such as this is only for graduate st
 udents\, think again.&nbsp\; This program has been adopted by the Honors P
 rogram of Apex Friendship High School and our leaders of tomorrow.
DTSTART:20210413T214500Z
DTEND:20210414T000000Z
DTSTAMP:20260423T095513Z
ORGANIZER;CN=PMI North Carolina Chapter:MAILTO:bounce@ncpmi.org
END:VEVENT
END:VCALENDAR