BEGIN:VCALENDAR
VERSION:2.0
PRODID:Events Booking
BEGIN:VEVENT
UID:69e9fe6a2b20c
SUMMARY:Communications and Public Speaking:  The Art of Selling Your Messag
 e
DESCRIPTION:Title: The Art of Selling Your Message
 Abstract: Today’s le
 aders are called on more and more often to not just deliver informative pr
 esentations\, but to inspire\, motivate\, and entertain while they do it.&
 nbsp\; &nbsp\;Whether it’s to customers\, internal teams\, webinars\, in
  the classroom or in a boardroom\, it always matters.&nbsp\; The good news
  is that when these deliveries are conducted properly\, everyone knows it.
 &nbsp\; The potential results can be staggering.&nbsp\; The bad news is th
 at when these deliveries are not conducted properly\, everyone knows it.&n
 bsp\; The potential results\, along with time and future opportunities\, a
 re wasted.
 Learning Objectives:
 Sales techniques finally merge with pr
 esentation techniques!
 
 Learning techniques to set up your message\, i
 nfluence behavior\, and move an audience to take immediate action.
 Learn
 ing to not just sustain interest but build that interest from the moment y
 ou step in front of a room with over a dozen interest sustaining ideas.
 
 Learning not just engage\, but involve the audience with multiple probing 
 techniques used by professional speakers.
 
 Speaker:&nbsp\; Rob Jolles&
 nbsp\;
 
 Speaker Bio: A sought-after speaker and five-time bestselling 
 author\, Rob Jolles has spent more than four decades on the road\, traveli
 ng more than three million miles in the air\, teaching\, entertaining\, an
 d inspiring audiences around the world.
 His books have been featured in&
 nbsp\;USA Today\,&nbsp\;Harvard Business Review\, and&nbsp\;Publisher’s 
 Weekly\, spending over a hundred weeks on national bestseller lists and tr
 anslated into more than a dozen languages.
 He’s the host of&nbsp\;The 
 Presentation Whisperer Show\, a show that explores all aspects of performa
 nce and what truly makes a presentation connect. Each episode features can
 did conversations with professional speakers\, trainers\, TEDx speakers\, 
 actors\, comedians\, and more who have their lessons to share.&nbsp\; www.
 ThePresentationWhisperer.com
DTSTART:20260512T214500Z
DTEND:20260513T000000Z
DTSTAMP:20260414T175315Z
ORGANIZER;CN=PMI North Carolina Chapter:MAILTO:bounce@ncpmi.org
END:VEVENT
END:VCALENDAR