BEGIN:VCALENDAR
VERSION:2.0
PRODID:Events Booking
BEGIN:VEVENT
UID:69ea8573f28a7
SUMMARY:Communications CoP: Influencing Others
DESCRIPTION:This is a NCPMI Communication &amp\; Public Speaking CoP- NCPL 
 Toastmasters Club Meeting.The Meeting includes prepared speeches\, table t
 opics\, networking\, evaluations\, jokes and multiple meeting operations r
 oles.6:00 pm – 8:00 pm (5:45 pm – 6:00 pm) Pre-meeting Networking
 Me
 eting will be convened by Zoom Virtual Meeting
 
 Abstract:
 Have you e
 ver been influenced by anyone in your professional or personal life? Do yo
 u want to be a leader who encourages\, persuades\, and inspires others?&nb
 sp\; If the answer is Yes\, then join a session full of information\, lear
 nings and fun by “Jedi Master Fame (From District -37 North Carolina) Ne
 hal Tanna
 
DTSTART:20210126T224500Z
DTEND:20210127T010000Z
DTSTAMP:20260423T204747Z
ORGANIZER;CN=PMI North Carolina Chapter:MAILTO:bounce@ncpmi.org
END:VEVENT
END:VCALENDAR