BEGIN:VCALENDAR
VERSION:2.0
PRODID:Events Booking
BEGIN:VEVENT
UID:69eaf10128505
SUMMARY:Communications CoP: No Social Distancing: Dealing with “Rona
DESCRIPTION:This is a NCPMI Communication &amp\; Public Speaking CoP- NCPL 
 Toastmasters Club Meeting.The Meeting includes prepared speeches\, table t
 opics\, networking\, evaluations\, jokes and multiple meeting operations r
 oles.5:30 pm – 8:00 pm (5:30 pm – 6:10 pm) Pre-meeting Networking
 Me
 eting will be convened by Virtual Conference Call
 Abstract
 
 People a
 re social beings. Project managers are responsible for the social interact
 ions of those they lead. In fact\, their role may better be described as 
 “People” Managers instead of “Project” Managers. If the people are
  managed\, the project gets done. With the pandemic\, the challenge to man
 age people is even harder. But social distancing is NOT the way to do it.
 
 
LOCATION:Conference Bridge
DTSTART:20200825T215000Z
DTEND:20200826T000000Z
DTSTAMP:20260424T042641Z
ORGANIZER;CN=PMI North Carolina Chapter:MAILTO:bounce@ncpmi.org
END:VEVENT
END:VCALENDAR