BEGIN:VCALENDAR
VERSION:2.0
PRODID:Events Booking
BEGIN:VEVENT
UID:69eab2c427b2d
SUMMARY:Celebrate International Project Management Day!
DESCRIPTION:
 Abstract:
 
 
 Why Attend the #IPMDay2020 Virtual Confere
 nce?&nbsp\;
 
 
 As a PMI North Carolina Chapter Member\, you can regis
 ter for free\, just sign in and complete the NCPMI registration and your p
 rice will change to $0 if you are a member and a deep discount from the re
 tail price if you are a non-member. IIL is a long-time sponsor of our Annu
 al Conference and NCPMI is excited to partner with the IIL team on this Vi
 rtual Conference!
 
 
 In celebration of our&nbsp\;35th Anniversary and
  our thank you&nbsp\;for being part of our NCPMI chapter membership\, plea
 se enjoy this valuable token of&nbsp\;appreciation!&nbsp\;&nbsp\;
 
DTSTART:20201105T133000Z
DTEND:20201105T230000Z
DTSTAMP:20260424T000108Z
ORGANIZER;CN=PMI North Carolina Chapter:MAILTO:bounce@ncpmi.org
END:VEVENT
END:VCALENDAR