BEGIN:VCALENDAR
VERSION:2.0
PRODID:Events Booking
BEGIN:VEVENT
UID:69e88aabe5651
SUMMARY:August Chapter Networking Event
DESCRIPTION:August Chapter Networking/ Professional Development Event
 &nb
 sp\;
 Come join our our chapter's membership with a wonderful opportunity
  to network with your peers. The NCPMI Professional Development Team would
  like to give our members the chance to network with fellow collegues and 
 recruiters. Food will be provided\, as well as raffles and prizes!!!
 &nb
 sp\;
 Location
 1101 Gorman St\, Raleigh\, NC 27606
 &nbsp\;
 Meeting 
 Agenda
 6:00 - 6:30 PM Network and Fellowship&nbsp\;
 6:30 - 7:00 PM Ins
 ights and Tips for Professional Development
 7:00 - 8:00 PM Networking&nb
 sp\;
 &nbsp\;
 If you have registered for the 2022 Annual Conference and
  have not recieved your code to register\, please e-mail vp_profdev@ncpmi.
 org.
DTSTART:20220818T220000Z
DTEND:20220819T000000Z
DTSTAMP:20220629T025458Z
ORGANIZER;CN=PMI North Carolina Chapter:MAILTO:bounce@ncpmi.org
END:VEVENT
END:VCALENDAR