BEGIN:VCALENDAR
VERSION:2.0
PRODID:Events Booking
BEGIN:VEVENT
UID:69e9ebc946775
SUMMARY:Agile CoP: Outcome based agile thinking with OKRs
DESCRIPTION:Outcome based agile thinking. Getting it done with OKRs.
DTSTART:20210728T220000Z
DTEND:20210728T230000Z
DTSTAMP:20260423T095209Z
ORGANIZER;CN=PMI North Carolina Chapter:MAILTO:bounce@ncpmi.org
END:VEVENT
END:VCALENDAR