BEGIN:VCALENDAR
VERSION:2.0
PRODID:Events Booking
BEGIN:VEVENT
UID:69ea8691c297d
SUMMARY:Agile COP: Disciplined Agile Transformation in Financial Services
DESCRIPTION:A Case Study:&nbsp\;After implementing DA\, the results were fa
 ster time to market\, greater efficiency in the business teams\, and impro
 ved customer satisfaction scores at Franklin Templeton.
LOCATION:Conference Bridge
DTSTART:20210127T230000Z
DTEND:20210128T000000Z
DTSTAMP:20260423T205233Z
ORGANIZER;CN=PMI North Carolina Chapter:MAILTO:bounce@ncpmi.org
END:VEVENT
END:VCALENDAR