BEGIN:VCALENDAR
VERSION:2.0
PRODID:Events Booking
BEGIN:VEVENT
UID:69e5e77cccd24
SUMMARY:Agile CoP: Communicating for Change in Non-software Agile Teams
DESCRIPTION:What is the best way to prepare an organization for change? Com
 municate and educate. In this talk\, we will share stories of a few differ
 ent non-software teams we’ve worked with that have applied an agile mind
 set for change. We’ll discuss the importance of educating on how to chan
 ge\, how these teams worked together\, how they interacted with stakeholde
 rs\, and how to determine what should not change.
DTSTART:20220727T220000Z
DTEND:20220727T230000Z
DTSTAMP:20220619T054342Z
ORGANIZER;CN=PMI North Carolina Chapter:MAILTO:bounce@ncpmi.org
END:VEVENT
END:VCALENDAR