BEGIN:VCALENDAR
VERSION:2.0
PRODID:Events Booking
BEGIN:VEVENT
UID:69ea5b46386f2
SUMMARY:Agile CoP: 100% Virtual Agile Tools\, Methods\, Tips\, and Traps
DESCRIPTION:COVID changed the landscape of work forever and even as we look
  forward to things going back to normal. The new normal will look differen
 t from the old normal. Fortunately\, organizations that had built agile ca
 pacity had better success in&nbsp\;adapting to rapid changes. And we are l
 ucky that many brilliant people from diverse backgrounds were trying to so
 lve for transitioning from physical or hybrid to 100% virtual. There are a
  lot of solutions out there\, from online whiteboard tools\, collaboration
 \, team building. It's hard to tell what works and what doesn't. This sess
 ion is about sharing what works from experience while having a taste test 
 of how to make it work for your own reality. Whether you've embraced agile
  methodologies or looking to get an edge in your circumstance\, you'll wal
 k away with a pragmatic approach to addressing team work in a virtual envi
 ronment.
DTSTART:20210324T220000Z
DTEND:20210324T230000Z
DTSTAMP:20260423T174750Z
ORGANIZER;CN=PMI North Carolina Chapter:MAILTO:bounce@ncpmi.org
END:VEVENT
END:VCALENDAR