BEGIN:VCALENDAR
VERSION:2.0
PRODID:Events Booking
BEGIN:VEVENT
UID:69ea6ef0b002d
SUMMARY:Global CoP: Your Brain and Work: Know the Challenges
DESCRIPTION:Join Zoom Meeting
 https://www.google.com/url?q=https://zoom.u
 s/j/98529648407?pwd%3DYW9CUjhLU2xLMm5LRFJhZ2NWYUZldz09&amp\;source=gmail&a
 mp\;ust=1605878984760000&amp\;usg=AOvVaw3QJ436_9zmbmyCBY4dvWHZ\"&gt\;https
 ://zoom.us/j/98529648407?pwd=YW9CUjhLU2xLMm5LRFJhZ2NWYUZldz09
 &nbsp\;
 
 Meeting ID: 985 2964 8407
 Passcode: 146424
 One tap mobile
 +131262667
 99\,\,98529648407#\,\,\,\,\,\,0#\,\,146424# US (Chicago)
 +19292056099\,\
 ,98529648407#\,\,\,\,\,\,0#\,\,146424# US (New York)
 &nbsp\;
 Dial by y
 our location
 &nbsp\; &nbsp\; &nbsp\; &nbsp\; +1 312 626 6799 US (Chicago
 )
 &nbsp\; &nbsp\; &nbsp\; &nbsp\; +1 929 205 6099 US (New York)
 &nbsp\
 ; &nbsp\; &nbsp\; &nbsp\; +1 301 715 8592 US (Washington D.C)
 &nbsp\; &n
 bsp\; &nbsp\; &nbsp\; +1 346 248 7799 US (Houston)
 &nbsp\; &nbsp\; &nbsp
 \; &nbsp\; +1 669 900 6833 US (San Jose)
 &nbsp\; &nbsp\; &nbsp\; &nbsp\;
  +1 253 215 8782 US (Tacoma)
 Meeting ID: 985 2964 8407
 Passcode: 14642
 4
 Find your local number:&nbsp\;https://www.google.com/url?q=https://zoo
 m.us/u/a6Pj7sQj7&amp\;source=gmail&amp\;ust=1605878984760000&amp\;usg=AOvV
 aw0ypHdHAC6em56-X4bQi0vl\"&gt\;https://zoom.us/u/a6Pj7sQj7
 &nbsp\;
 You
 r Brain and Work: Know the ChallengesOur brains have not evolved to match 
 the needs of white color business environments. In many cases\,&nbsp\;the 
 natural reaction your brains have to issues in business goes completely co
 unter to what you&nbsp\;should/need to do.
 Aside from this\, no one trai
 ns or teaches no this subject. We brush it under the rug&nbsp\;and just as
 sume we will adapt or worse yet\, assume it really isn’t a problem.&nbsp
 \;The reality is the problem is epidemic and shows up in the staggering in
 creases in stress-related illness&nbsp\;and death and the exceedingly high
  level of disengaged workers. It is staggering to see the number of&nbsp\;
 business professionals who don’t even know what self-talk is and the dan
 ger it produces if left&nbsp\;unchecked.
 This web seminar will get into 
 the very heart of brain dysfunction when tied to business interaction. The
 &nbsp\;areas that will be covered included:-The physiology of emotional in
 telligence-Affective forecasting and its impact on decision making-Cogniti
 ve biases and its impact on day to day business interaction-Neuroplasticit
 y and change management. How hard it is to change-Your lazy brain\, how st
 ereotypes and decision patterns are developed-Self-talk and stressWithin a
 ll these topics we will discuss techniques you can use to help you work ar
 ound the innate&nbsp\;limitations your brain causes.&nbsp\;
DTSTART:20201121T050000Z
DTEND:20201121T050000Z
DTSTAMP:20260423T191144Z
ORGANIZER;CN=PMI North Carolina Chapter:MAILTO:bounce@ncpmi.org
END:VEVENT
END:VCALENDAR