BEGIN:VCALENDAR
VERSION:2.0
PRODID:Events Booking
BEGIN:VEVENT
UID:69ea6fee7fae8
SUMMARY:Virtual Workshop Series Part III presented by Apex Systems with Liv
 e Q & A:  How Teams Make Exceptional Decisions – Workshop 5
DESCRIPTION:Abstract:
 NCPMI in partnership with Apex System is offering a
  Virtual Workshop Series on Time Management and Communications for All Pra
 ctitioners. You must watch the on-demand webinar here prior to attending t
 his live question and answer event.&nbsp\;These sessions will be free&nbsp
 \;for NCPMI Members&nbsp\;and hosted online via&nbsp\;ZOOM.&nbsp\;
 Webin
 ar Overview:
 Quality decisions are critical for superior organizational 
 performance\, while poor decisions lead to poor performance. Research find
 s that teams make superior decisions over individual managers or executive
 s 75% of the time. If an organization wants better decisions\, they need t
 o use teams to make the majority of those decisions. However\, good decisi
 on making doesn't happen just because it is a team making those decisions.
  Science finds the very best decision-making teams use several strategies 
 to outperform mediocre and dysfunctional teams. So\, how do leaders get th
 eir teams to make the best decisions possible?
LOCATION:Virtual (URL for the session will be provided prior to each weekly
  session)
DTSTART:20220302T170000Z
DTEND:20220302T180000Z
DTSTAMP:20211020T014634Z
ORGANIZER;CN=PMI North Carolina Chapter:MAILTO:bounce@ncpmi.org
GEO:35.896166;-78.870311
X-APPLE-STRUCTURED-LOCATION;VALUE=URI;X-ADDRESS=Virtual (URL for the sessio
 n will be provided prior to each weekly session);X-APPLE-RADIUS=72;X-TITLE
 =Virtual (URL for the session will be provided prior to each weekly sessio
 n):35.896166;-78.870311
END:VEVENT
END:VCALENDAR