BEGIN:VCALENDAR
VERSION:2.0
PRODID:Events Booking
BEGIN:VEVENT
UID:69ea9cafc4244
SUMMARY:Virtual Workshop Series Part II presented by Apex Systems with Live
  Q & A:  Mind over Matter with Lisa DiTullio – Workshop 1
DESCRIPTION:Abstract:
 NCPMI in partnership with Apex System is offering a
  Virtual Workshop Series on Time Management and Communications for All Pra
 ctitioners. You must watch the on-demand webinar here prior to attending t
 his live question and answer event.&nbsp\;These sessions will be free&nbsp
 \;for NCPMI Members&nbsp\;and hosted online via&nbsp\;ZOOM.&nbsp\;
 Webin
 ar Overview:
 Learn how to increase resilience and improve productivity b
 y adopting simple techniques that will improve:
 
 Focus and concentrati
 on
 Stress tolerance &amp\; impulse control
 Managing competing prioriti
 es
 
LOCATION:Virtual (URL for the session will be provided prior to each weekly
  session)
DTSTART:20210303T170000Z
DTEND:20210303T180000Z
DTSTAMP:20260423T222655Z
ORGANIZER;CN=PMI North Carolina Chapter:MAILTO:bounce@ncpmi.org
GEO:35.896166;-78.870311
X-APPLE-STRUCTURED-LOCATION;VALUE=URI;X-ADDRESS=Virtual (URL for the sessio
 n will be provided prior to each weekly session);X-APPLE-RADIUS=72;X-TITLE
 =Virtual (URL for the session will be provided prior to each weekly sessio
 n):35.896166;-78.870311
END:VEVENT
END:VCALENDAR